BEGIN:VCALENDAR
VERSION:2.0
PRODID:-//Squarespace Inc/Squarespace 6//v6//EN
BEGIN:VEVENT
UID:5c5239d10ebbe8920916b7d6@squarespace.com
DTSTAMP:20190404T001011Z
DTSTART:20190330T010000Z
DTEND:20190331T070000Z
SUMMARY:The District Docklands - Multicultural Festival
GEO:-37.814293;144.9385
LOCATION:The District Docklands\, 440 Docklands Drive\, Docklands\, VIC\, 3
 008\, Australia
END:VEVENT
END:VCALENDAR
