BEGIN:VCALENDAR
VERSION:2.0
PRODID:-//Squarespace Inc/Squarespace 6//v6//EN
BEGIN:VEVENT
UID:5c1873e74d7a9cc4a780121c@squarespace.com
DTSTAMP:20191028T013650Z
DTSTART:20190414T000000Z
DTEND:20190414T070000Z
SUMMARY:Sri Lankan Festival Melbourne
GEO:-37.807745;144.958336
LOCATION:Queen Victoria Market\, 452 Queen Street\, Melbourne\, VIC\, 3000\
 , Australia
END:VEVENT
END:VCALENDAR
