BEGIN:VCALENDAR
VERSION:2.0
PRODID:-//Squarespace Inc/Squarespace 6//v6//EN
BEGIN:VEVENT
UID:5db64632c494f4106d6b09c2@squarespace.com
DTSTAMP:20191107T002941Z
DTSTART:20200426T000000Z
DTEND:20200426T060000Z
SUMMARY:Sri Lankan Festival Melbourne
GEO:-37.807745;144.958336
LOCATION:Queen Victoria Market\, 452 Queen Street\, Melbourne\, VIC\, 3000\
 , Australia
END:VEVENT
END:VCALENDAR
