BEGIN:VCALENDAR
VERSION:2.0
PRODID:-//Squarespace Inc/Squarespace 6//v6//EN
BEGIN:VEVENT
UID:5bd9302440ec9a47ec9eb15b@squarespace.com
DTSTAMP:20190121T110321Z
DTSTART:20190126T073000Z
DTEND:20190126T123000Z
SUMMARY:Outdoor Movie Festival - K3G
GEO:-38.025621;145.339927
LOCATION:Wilson Botanic Park\, 668 Princes Highway\, Berwick\, VIC\, 3806\, 
 Australia
END:VEVENT
END:VCALENDAR
