BEGIN:VCALENDAR
VERSION:2.0
PRODID:-//Squarespace Inc/Squarespace 6//v6//EN
BEGIN:VEVENT
UID:5b9b2d63032be4e77bcdbcbc@squarespace.com
DTSTAMP:20190109T041345Z
DTSTART:20181222T230000Z
DTEND:20181227T100000Z
SUMMARY:Indian Summer Festival at the IND v AUS Boxing Day Test
GEO:-37.819759;144.98661
LOCATION:MCG - Yarra Park\, Marathon Way\, East Melbourne VIC 3002\, Austra
 lia
END:VEVENT
END:VCALENDAR
