BEGIN:VCALENDAR
VERSION:2.0
PRODID:-//Squarespace Inc/Squarespace 6//v6//EN
BEGIN:VEVENT
UID:5dc36a19772f2c7a8e00ef75@squarespace.com
DTSTAMP:20200125T201434Z
DTSTART:20200125T000000Z
DTEND:20200125T080000Z
SUMMARY:Indian Street Food Festival
GEO:-37.919641;145.051538
LOCATION:Temple Society Australia\, 152 Tucker Road\, Bentleigh\, Australia
END:VEVENT
END:VCALENDAR
