BEGIN:VCALENDAR
VERSION:2.0
PRODID:-//Squarespace Inc/Squarespace 6//v6//EN
BEGIN:VEVENT
UID:5a1251c671c10ba55343e12e@squarespace.com
DTSTAMP:20171120T041533Z
DTSTART:20170714T230000Z
DTEND:20170716T060000Z
SUMMARY:Indian Festival Melbourne 2017
END:VEVENT
END:VCALENDAR
