BEGIN:VCALENDAR
VERSION:2.0
PRODID:-//Squarespace Inc/Squarespace 6//v6//EN
BEGIN:VEVENT
UID:5e0eafc2af57813870ee8497@squarespace.com
DTSTAMP:20200228T004547Z
DTSTART:20200321T040000Z
DTEND:20200321T090000Z
SUMMARY:Global Flavour Feast Bunjil Place
GEO:-38.019148;145.301304
LOCATION:Bunjil Place\, 2 Patrick Northeast Drive\, Narre Warren\, VIC\, 38
 05\, Australia
END:VEVENT
END:VCALENDAR
