BEGIN:VCALENDAR
VERSION:2.0
PRODID:-//Squarespace Inc/Squarespace 6//v6//EN
BEGIN:VEVENT
UID:5e44a84e9e777d5ba22d66b6@squarespace.com
DTSTAMP:20200214T031335Z
DTSTART:20200328T040000Z
DTEND:20200328T090000Z
SUMMARY:Flemington Cultural Festival
GEO:-37.788393;144.931504
LOCATION:Racecourse road\, Flemington\, Australia
END:VEVENT
END:VCALENDAR
