BEGIN:VCALENDAR
VERSION:2.0
PRODID:-//Squarespace Inc/Squarespace 6//v6//EN
BEGIN:VEVENT
UID:5d5a1986373aac00017b030a@squarespace.com
DTSTAMP:20191016T231639Z
DTSTART:20190914T230000Z
DTEND:20190915T060000Z
SUMMARY:Full Moon Festival Dandenong 2019
GEO:-37.984631;145.214847
LOCATION:Dandenong Market\, Cnr Clow & Cleeland St\,\, Dandenong\, Victoria 
 3175\, Australia
END:VEVENT
END:VCALENDAR
