BEGIN:VCALENDAR
VERSION:2.0
PRODID:-//Squarespace Inc/Squarespace 6//v6//EN
BEGIN:VEVENT
UID:5b4eaf2b2b6a288ebc96cefd@squarespace.com
DTSTAMP:20190805T040040Z
DTSTART:20181103T230000Z
DTEND:20181104T050000Z
SUMMARY:Diwali Festival Dandenong
GEO:-37.984631;145.214847
LOCATION:Dandenong Market\, Cnr Clow & Cleeland St\,\, Dandenong\, Victoria 
 3175\, Australia
END:VEVENT
END:VCALENDAR
