BEGIN:VCALENDAR
VERSION:2.0
PRODID:-//Squarespace Inc/Squarespace 6//v6//EN
BEGIN:VEVENT
UID:5d47a9e8f352bf000136aaf6@squarespace.com
DTSTAMP:20190912T013807Z
DTSTART:20191019T220000Z
DTEND:20191020T050000Z
SUMMARY:Diwali Festival Dandenong 2019
GEO:-37.984631;145.214847
LOCATION:Dandenong Market\, Cnr Clow & Cleeland St\,\, Dandenong\, Victoria 
 3175\, Australia
END:VEVENT
END:VCALENDAR
