BEGIN:VCALENDAR
VERSION:2.0
PRODID:-//Squarespace Inc/Squarespace 6//v6//EN
BEGIN:VEVENT
UID:5b6148862b6a28724ff2204c@squarespace.com
DTSTAMP:20200103T030642Z
DTSTART:20181111T010000Z
DTEND:20181111T100000Z
SUMMARY:Diwali at Bunjil Place
GEO:-38.019148;145.301304
LOCATION:Bunjil Place\, 2 Patrick Northeast Drive\, Narre Warren\, VIC\, 38
 05\, Australia
END:VEVENT
END:VCALENDAR
