BEGIN:VCALENDAR
VERSION:2.0
PRODID:-//Squarespace Inc/Squarespace 6//v6//EN
BEGIN:VEVENT
UID:5dc3657529b11d43b1905ac5@squarespace.com
DTSTAMP:20191205T035839Z
DTSTART:20191217T053000Z
DTEND:20191217T073000Z
SUMMARY:DALicious The Utlimate Indian Grain
GEO:-37.81178;144.937329
LOCATION:The District Docklands\, 101 Waterfront Way\, Docklands\, VIC\, 30
 08\, Australia
END:VEVENT
END:VCALENDAR
