BEGIN:VCALENDAR
VERSION:2.0
PRODID:-//Squarespace Inc/Squarespace 6//v6//EN
BEGIN:VEVENT
UID:5b4dd104758d46a039eeb683@squarespace.com
DTSTAMP:20190723T031029Z
DTSTART:20180902T000000Z
DTEND:20180902T060000Z
SUMMARY:Curry Festival
GEO:-37.984631;145.214847
LOCATION:Dandenong Market\, Cnr Clow & Cleeland St\,\, Dandenong\, Victoria 
 3175\, Australia
END:VEVENT
END:VCALENDAR
