BEGIN:VCALENDAR
VERSION:2.0
PRODID:-//Squarespace Inc/Squarespace 6//v6//EN
BEGIN:VEVENT
UID:5d3fbc4a5286c30001a1ec61@squarespace.com
DTSTAMP:20191016T231753Z
DTSTART:20190831T230000Z
DTEND:20190901T060000Z
SUMMARY:Curry Festival
GEO:-37.984631;145.214847
LOCATION:Dandenong Market\, Cnr Clow & Cleeland St\,\, Dandenong\, Victoria 
 3175\, Australia
END:VEVENT
END:VCALENDAR
