BEGIN:VCALENDAR
VERSION:2.0
PRODID:-//Squarespace Inc/Squarespace 6//v6//EN
BEGIN:VEVENT
UID:5cc6556c15fcc03ef0e4bfd9@squarespace.com
DTSTAMP:20191009T194856Z
DTSTART:20190922T000000Z
DTEND:20190922T060000Z
SUMMARY:African Festival Melbourne 2019
END:VEVENT
END:VCALENDAR
