BEGIN:VCALENDAR
VERSION:2.0
PRODID:-//Squarespace Inc/Squarespace 6//v6//EN
BEGIN:VEVENT
UID:5ca3f62695246700018f5580@squarespace.com
DTSTAMP:20190813T123006Z
DTSTART:20190727T000000Z
DTEND:20190728T060000Z
SUMMARY:Indian Festival Melbourne 2019
GEO:-37.807745;144.958336
LOCATION:Queen Victoria Market\, 452 Queen Street\, Melbourne\, VIC\, 3000\
 , Australia
END:VEVENT
END:VCALENDAR
