BEGIN:VCALENDAR
VERSION:2.0
PRODID:-//Squarespace Inc/Squarespace 6//v6//EN
BEGIN:VEVENT
UID:5a0a480871c10b6a456fd6d6@squarespace.com
DTSTAMP:20190402T235413Z
DTSTART:20180323T220000Z
DTEND:20180325T050000Z
SUMMARY:Indian Festival Melbourne
GEO:-37.807745;144.958336
LOCATION:Queen Victoria Market\, 452 Queen Street\, Melbourne\, VIC\, 3000\
 , Australia
END:VEVENT
END:VCALENDAR
