BEGIN:VCALENDAR
VERSION:2.0
PRODID:-//Squarespace Inc/Squarespace 6//v6//EN
BEGIN:VEVENT
UID:59e44d6ff6576e84f90e3700@squarespace.com
DTSTAMP:20171114T013400Z
DTSTART:20171021T230000Z
DTEND:20171022T050000Z
SUMMARY:Diwali Family Day
GEO:-37.984674;145.214603
LOCATION:Dandenong Market
END:VEVENT
END:VCALENDAR
